BEGIN:VCALENDAR
VERSION:2.0
PRODID:-//SINDCONT-SP - ECPv6.15.20//NONSGML v1.0//EN
CALSCALE:GREGORIAN
METHOD:PUBLISH
X-WR-CALNAME:SINDCONT-SP
X-ORIGINAL-URL:https://www.sindcontsp.org.br
X-WR-CALDESC:Eventos para SINDCONT-SP
REFRESH-INTERVAL;VALUE=DURATION:PT1H
X-Robots-Tag:noindex
X-PUBLISHED-TTL:PT1H
BEGIN:VTIMEZONE
TZID:America/Sao_Paulo
BEGIN:STANDARD
TZOFFSETFROM:-0200
TZOFFSETTO:-0300
TZNAME:-03
DTSTART:20180218T020000
END:STANDARD
BEGIN:DAYLIGHT
TZOFFSETFROM:-0300
TZOFFSETTO:-0200
TZNAME:-02
DTSTART:20181104T030000
END:DAYLIGHT
BEGIN:STANDARD
TZOFFSETFROM:-0200
TZOFFSETTO:-0300
TZNAME:-03
DTSTART:20190217T020000
END:STANDARD
END:VTIMEZONE
BEGIN:VEVENT
DTSTART;TZID=America/Sao_Paulo:20190816T090000
DTEND;TZID=America/Sao_Paulo:20190816T180000
DTSTAMP:20260421T024828
CREATED:20190813T200657Z
LAST-MODIFIED:20190813T201618Z
UID:4379-1565946000-1565978400@www.sindcontsp.org.br
SUMMARY:Oficina de Alteração de Atos Societários - 101.06758
DESCRIPTION:Tipos Jurídicos:\nEmpresa Individual de Responsabilidade Limitada – EIRELI;\nEmpresário  Individual;\nSociedade Limitada;\nMicroempreendedor Individual (MEI). \nAnálise das exigências para formalização de atos societários e empresariais \, bem como levantamento de pendências juntos aos órgãos públicos\,  de empresa cassada junto a Sefaz   ou  inapta no Cadastro Nacional da Pessoa Jurídica ( Receita Federal do Brasil )  para fins de regularizações.   \nDestaque para os procedimentos junto aos órgãos públicos\, em especial:\nProcedimentos perante Registro Público de Pessoas Jurídicas e/ ou Juntas Comerciais;\nProcedimentos junto a Receita Federal do Brasil – CNPJ;\nProcedimentos junto a SEFAZ;\nProcedimentos junto a Prefeitura de São Paulo – CCM;\nProcedimentos junto a Previdência Social;\nProcedimentos Junto a Caixa Econômica Federal – FGTS;\nRenovação de Certificado Digital;\nEnquadramento de Sindicado Patronal;\nAnálises dos Regimes Tributários ( Simples Nacional \, Lucro Presumido e Lucro Real);\nLicenças Obrigatórias.
URL:https://www.sindcontsp.org.br/evento/oficina-de-alteracao-de-atos-societarios-101-06758/
LOCATION:Sindcont-SP\, Praça Ramos de Azevedo\, 202\, São Paulo\, São Paulo\, 01037-010\, Brasil
CATEGORIES:Presenciais
END:VEVENT
END:VCALENDAR