BEGIN:VCALENDAR
VERSION:2.0
PRODID:-//SINDCONT-SP - ECPv6.15.20//NONSGML v1.0//EN
CALSCALE:GREGORIAN
METHOD:PUBLISH
X-ORIGINAL-URL:https://www.sindcontsp.org.br
X-WR-CALDESC:Eventos para SINDCONT-SP
REFRESH-INTERVAL;VALUE=DURATION:PT1H
X-Robots-Tag:noindex
X-PUBLISHED-TTL:PT1H
BEGIN:VTIMEZONE
TZID:America/Sao_Paulo
BEGIN:STANDARD
TZOFFSETFROM:-0200
TZOFFSETTO:-0300
TZNAME:-03
DTSTART:20180218T020000
END:STANDARD
BEGIN:DAYLIGHT
TZOFFSETFROM:-0300
TZOFFSETTO:-0200
TZNAME:-02
DTSTART:20181104T030000
END:DAYLIGHT
BEGIN:STANDARD
TZOFFSETFROM:-0200
TZOFFSETTO:-0300
TZNAME:-03
DTSTART:20190217T020000
END:STANDARD
END:VTIMEZONE
BEGIN:VEVENT
DTSTART;TZID=America/Sao_Paulo:20190827T190000
DTEND;TZID=America/Sao_Paulo:20190827T210000
DTSTAMP:20260421T025028
CREATED:20190816T175448Z
LAST-MODIFIED:20190816T175448Z
UID:4447-1566932400-1566939600@www.sindcontsp.org.br
SUMMARY:Palestra do Projeto Saber Contábil: Empreendendo na carreira profissional em tempos de mudanças na área das relações trabalhistas
DESCRIPTION:Como empreender na carreira profissional na nova era das relações trabalhistas. \nDesafios e oportunidades para empreender como empresário ou mesmo como empregado. \nComo identificar oportunidades. \nComo aprimorar a contabilidade trabalhista?
URL:https://www.sindcontsp.org.br/evento/palestra-do-projeto-saber-contabil-empreendendo-na-carreira-profissional-em-tempos-de-mudancas-na-area-das-relacoes-trabalhistas/
LOCATION:Sindcont-SP\, Praça Ramos de Azevedo\, 202\, São Paulo\, São Paulo\, 01037-010\, Brasil
CATEGORIES:Presenciais
END:VEVENT
END:VCALENDAR