BEGIN:VCALENDAR
VERSION:2.0
PRODID:-//SINDCONT-SP - ECPv6.15.20//NONSGML v1.0//EN
CALSCALE:GREGORIAN
METHOD:PUBLISH
X-WR-CALNAME:SINDCONT-SP
X-ORIGINAL-URL:https://www.sindcontsp.org.br
X-WR-CALDESC:Eventos para SINDCONT-SP
REFRESH-INTERVAL;VALUE=DURATION:PT1H
X-Robots-Tag:noindex
X-PUBLISHED-TTL:PT1H
BEGIN:VTIMEZONE
TZID:America/Sao_Paulo
BEGIN:STANDARD
TZOFFSETFROM:-0200
TZOFFSETTO:-0300
TZNAME:-03
DTSTART:20180218T020000
END:STANDARD
BEGIN:DAYLIGHT
TZOFFSETFROM:-0300
TZOFFSETTO:-0200
TZNAME:-02
DTSTART:20181104T030000
END:DAYLIGHT
BEGIN:STANDARD
TZOFFSETFROM:-0200
TZOFFSETTO:-0300
TZNAME:-03
DTSTART:20190217T020000
END:STANDARD
END:VTIMEZONE
BEGIN:VEVENT
DTSTART;TZID=America/Sao_Paulo:20190904T090000
DTEND;TZID=America/Sao_Paulo:20190904T180000
DTSTAMP:20260421T011029
CREATED:20190816T183843Z
LAST-MODIFIED:20190816T183843Z
UID:4464-1567587600-1567620000@www.sindcontsp.org.br
SUMMARY:Classificação Fiscal de Mercadorias (NCM) e CEST - 102.06803
DESCRIPTION:Considerando que é através dos códigos NCM/CEST que se identifica a tributação; uma classificação incorreta poderá comprometer toda a carga de tributos incidentes em determinada mercadoria e ocasionar erros nas declarações do SPED; deixando o contribuinte em risco de autuação/multa e ainda sujeito ao recolhimento das diferenças encontradas\, com acréscimos legais.
URL:https://www.sindcontsp.org.br/evento/classificacao-fiscal-de-mercadorias-ncm-e-cest-102-06803/
LOCATION:Sindcont-SP\, Praça Ramos de Azevedo\, 202\, São Paulo\, São Paulo\, 01037-010\, Brasil
CATEGORIES:Presenciais
END:VEVENT
END:VCALENDAR