BEGIN:VCALENDAR
VERSION:2.0
PRODID:-//SINDCONT-SP - ECPv6.15.20//NONSGML v1.0//EN
CALSCALE:GREGORIAN
METHOD:PUBLISH
X-WR-CALNAME:SINDCONT-SP
X-ORIGINAL-URL:https://www.sindcontsp.org.br
X-WR-CALDESC:Eventos para SINDCONT-SP
REFRESH-INTERVAL;VALUE=DURATION:PT1H
X-Robots-Tag:noindex
X-PUBLISHED-TTL:PT1H
BEGIN:VTIMEZONE
TZID:America/Sao_Paulo
BEGIN:STANDARD
TZOFFSETFROM:-0200
TZOFFSETTO:-0300
TZNAME:-03
DTSTART:20180218T020000
END:STANDARD
BEGIN:DAYLIGHT
TZOFFSETFROM:-0300
TZOFFSETTO:-0200
TZNAME:-02
DTSTART:20181104T030000
END:DAYLIGHT
BEGIN:STANDARD
TZOFFSETFROM:-0200
TZOFFSETTO:-0300
TZNAME:-03
DTSTART:20190217T020000
END:STANDARD
END:VTIMEZONE
BEGIN:VEVENT
DTSTART;TZID=America/Sao_Paulo:20190910T090000
DTEND;TZID=America/Sao_Paulo:20191008T180000
DTSTAMP:20260421T011100
CREATED:20190822T211810Z
LAST-MODIFIED:20190822T211810Z
UID:4469-1568106000-1570557600@www.sindcontsp.org.br
SUMMARY:Consultoria Empresarial - Aplicação Prática - 101.06805
DESCRIPTION:O que é consultoria.\n    Tipos de consultorias.\n    Habilidades do consultor.\n    Mercado de trabalho do consultor.\n    Imparcialidade do consultor.\n    Ética do consultor.\n    Como elaborar a proposta de consultoria.\n    Reunião inicial de apresentação da proposta.\n    Contrato de prestação de serviços de consultoria empresarial.\n    Honorários dos serviços de consultoria.\n    Informações necessárias para execução de serviços de consultoria.\n    Abordagens específicas conforme proposta:\n    Dos procedimentos contábeis.\n    De revisão tributária.\n    Dos procedimentos administrativos.\n    Dos controles financeiros.\n    De apuração dos custos.\n    Das políticas de preços.\n    Dificuldades em obtenção de dados para trabalho de consultoria.\n    Preparação do relatório de consultoria.\n    Apresentação do relatório de consultoria.\n    Reunião de conclusão do trabalho de consultoria.\n    Procedimentos pós –  trabalho de consultoria.
URL:https://www.sindcontsp.org.br/evento/consultoria-empresarial-aplicacao-pratica-101-06805/
LOCATION:Sindcont-SP\, Praça Ramos de Azevedo\, 202\, São Paulo\, São Paulo\, 01037-010\, Brasil
CATEGORIES:Presenciais
END:VEVENT
BEGIN:VEVENT
DTSTART;TZID=America/Sao_Paulo:20190911T090000
DTEND;TZID=America/Sao_Paulo:20190911T180000
DTSTAMP:20260421T011100
CREATED:20190822T212032Z
LAST-MODIFIED:20190822T212032Z
UID:4472-1568192400-1568224800@www.sindcontsp.org.br
SUMMARY:Consolidação e combinação de demonstrações contábeis - 101.06728
DESCRIPTION:Panorama conceitual sobre conjunto de demonstrações contábeis conforme NBC TG 26 (CPC 26);\n    Conceitos e práticas sobre investimento em controladas e coligadas conforme NBC TG 18 (CPC 18);\n    Influência significativa e método de equivalência patrimonial conforme NBC TG 18 (CPC 18);\n    Conceitos sobre grupo econômico\, controladora\, controladas\, poder\, controle\, perda de controle e participação de não controladores conforme NBC TG 36 (CPC 36);\n    Alcance para apresentação de demonstrações consolidadas e procedimentos de consolidação conforme NBC TG 36 (CPC 36);\n    Conceitos de controle comum\, conceitos de demonstrações combinadas\, objetivos das demonstrações combinadas\, conceitos de demonstrações combinadas pro forma e circunstâncias em que são apresentadas demonstrações combinadas conforme NBC TG 44 (CPC 44);\n    Instruções para elaboração de demonstrações combinadas conforme NBC TG 44 (CPC 44);\n    Casos práticos e exercícios de fixação.
URL:https://www.sindcontsp.org.br/evento/consolidacao-e-combinacao-de-demonstracoes-contabeis-101-06728/
LOCATION:Sindcont-SP\, Praça Ramos de Azevedo\, 202\, São Paulo\, São Paulo\, 01037-010\, Brasil
CATEGORIES:Presenciais
END:VEVENT
BEGIN:VEVENT
DTSTART;TZID=America/Sao_Paulo:20190911T180000
DTEND;TZID=America/Sao_Paulo:20190911T220000
DTSTAMP:20260421T011100
CREATED:20190822T212307Z
LAST-MODIFIED:20190822T212307Z
UID:4475-1568224800-1568239200@www.sindcontsp.org.br
SUMMARY:Contabilização da Folha de Pagamento - 104.06806
DESCRIPTION:Salário Base\n    Horas Extras\n    DSR nas Horas Extras\n    Remuneração Bruta\n    Descontos Legais\n    Contribuição Previdenciária\n    Pensão Alimentícia\n    Imposto de Renda Retido na Fonte\n    Remuneração Líquida\n    Encargos Sociais\n    INSS\n    FGTS\n    13º Salário\n    Férias\n    Registros Contábeis da Folha de Pagamento\n    Conciliação Contábil da Folha de Pagamento.
URL:https://www.sindcontsp.org.br/evento/contabilizacao-da-folha-de-pagamento-104-06806/
LOCATION:Sindcont-SP\, Praça Ramos de Azevedo\, 202\, São Paulo\, São Paulo\, 01037-010\, Brasil
CATEGORIES:Presenciais
END:VEVENT
END:VCALENDAR