BEGIN:VCALENDAR
VERSION:2.0
PRODID:-//SINDCONT-SP - ECPv6.15.20//NONSGML v1.0//EN
CALSCALE:GREGORIAN
METHOD:PUBLISH
X-ORIGINAL-URL:https://www.sindcontsp.org.br
X-WR-CALDESC:Eventos para SINDCONT-SP
REFRESH-INTERVAL;VALUE=DURATION:PT1H
X-Robots-Tag:noindex
X-PUBLISHED-TTL:PT1H
BEGIN:VTIMEZONE
TZID:America/Sao_Paulo
BEGIN:STANDARD
TZOFFSETFROM:-0200
TZOFFSETTO:-0300
TZNAME:-03
DTSTART:20180218T020000
END:STANDARD
BEGIN:DAYLIGHT
TZOFFSETFROM:-0300
TZOFFSETTO:-0200
TZNAME:-02
DTSTART:20181104T030000
END:DAYLIGHT
BEGIN:STANDARD
TZOFFSETFROM:-0200
TZOFFSETTO:-0300
TZNAME:-03
DTSTART:20190217T020000
END:STANDARD
END:VTIMEZONE
BEGIN:VEVENT
DTSTART;TZID=America/Sao_Paulo:20190910T090000
DTEND;TZID=America/Sao_Paulo:20191008T180000
DTSTAMP:20260421T011722
CREATED:20190822T211810Z
LAST-MODIFIED:20190822T211810Z
UID:4469-1568106000-1570557600@www.sindcontsp.org.br
SUMMARY:Consultoria Empresarial - Aplicação Prática - 101.06805
DESCRIPTION:O que é consultoria.\n    Tipos de consultorias.\n    Habilidades do consultor.\n    Mercado de trabalho do consultor.\n    Imparcialidade do consultor.\n    Ética do consultor.\n    Como elaborar a proposta de consultoria.\n    Reunião inicial de apresentação da proposta.\n    Contrato de prestação de serviços de consultoria empresarial.\n    Honorários dos serviços de consultoria.\n    Informações necessárias para execução de serviços de consultoria.\n    Abordagens específicas conforme proposta:\n    Dos procedimentos contábeis.\n    De revisão tributária.\n    Dos procedimentos administrativos.\n    Dos controles financeiros.\n    De apuração dos custos.\n    Das políticas de preços.\n    Dificuldades em obtenção de dados para trabalho de consultoria.\n    Preparação do relatório de consultoria.\n    Apresentação do relatório de consultoria.\n    Reunião de conclusão do trabalho de consultoria.\n    Procedimentos pós –  trabalho de consultoria.
URL:https://www.sindcontsp.org.br/evento/consultoria-empresarial-aplicacao-pratica-101-06805/
LOCATION:Sindcont-SP\, Praça Ramos de Azevedo\, 202\, São Paulo\, São Paulo\, 01037-010\, Brasil
CATEGORIES:Presenciais
END:VEVENT
BEGIN:VEVENT
DTSTART;TZID=America/Sao_Paulo:20190913T140000
DTEND;TZID=America/Sao_Paulo:20191011T180000
DTSTAMP:20260421T011722
CREATED:20190822T212954Z
LAST-MODIFIED:20190822T212954Z
UID:4482-1568383200-1570816800@www.sindcontsp.org.br
SUMMARY:Reinf - DCTF WEB - 102.06798
DESCRIPTION:Levar aos participantes\, informações sobre mais um módulo do Projeto SPED\, que trata das retenções do contribuinte sem relação de emprego\, bem como as informações sobre a receita bruta para apuração das contribuições previdenciárias substituídas (Desoneração da Folha de Pagamento) e outras informações. Vamos também entender o funcionamento da DCTF-WEB a nova forma de declaração dos débitos ao fisco.
URL:https://www.sindcontsp.org.br/evento/reinf-dctf-web-102-06798/
LOCATION:Sindcont-SP\, Praça Ramos de Azevedo\, 202\, São Paulo\, São Paulo\, 01037-010\, Brasil
CATEGORIES:Presenciais
END:VEVENT
BEGIN:VEVENT
DTSTART;TZID=America/Sao_Paulo:20191010T190000
DTEND;TZID=America/Sao_Paulo:20191010T210000
DTSTAMP:20260421T011722
CREATED:20191004T125720Z
LAST-MODIFIED:20191004T125720Z
UID:5484-1570734000-1570741200@www.sindcontsp.org.br
SUMMARY:Reunião Técnica do Grupo IFRS e Gestão Contábil - Ativo Imobilizado - Avaliação e Contabilização
DESCRIPTION:
URL:https://www.sindcontsp.org.br/evento/reuniao-tecnica-do-grupo-ifrs-e-gestao-contabil-ativo-imobilizado-avaliacao-e-contabilizacao/
LOCATION:São Paulo
END:VEVENT
BEGIN:VEVENT
DTSTART;TZID=America/Sao_Paulo:20191030T090000
DTEND;TZID=America/Sao_Paulo:20191030T190000
DTSTAMP:20260421T011722
CREATED:20191024T150602Z
LAST-MODIFIED:20191030T193324Z
UID:5879-1572426000-1572462000@www.sindcontsp.org.br
SUMMARY:Consultor Contábil e Financeiro - 101.06855
DESCRIPTION:
URL:https://www.sindcontsp.org.br/evento/consultor-contabil-e-financeiro-101-06855/
LOCATION:Sindcont-SP\, Praça Ramos de Azevedo\, 202\, São Paulo\, São Paulo\, 01037-010\, Brasil
END:VEVENT
BEGIN:VEVENT
DTSTART;TZID=America/Sao_Paulo:20191127T090000
DTEND;TZID=America/Sao_Paulo:20191127T180000
DTSTAMP:20260421T011722
CREATED:20191010T185126Z
LAST-MODIFIED:20191010T185126Z
UID:5647-1574845200-1574877600@www.sindcontsp.org.br
SUMMARY:Lucro Real Avançado – 101.06871
DESCRIPTION:
URL:https://www.sindcontsp.org.br/evento/lucro-real-avancado-101-06871/
LOCATION:São Paulo
CATEGORIES:Presenciais
END:VEVENT
BEGIN:VEVENT
DTSTART;TZID=America/Sao_Paulo:20191129T090000
DTEND;TZID=America/Sao_Paulo:20191129T180000
DTSTAMP:20260421T011722
CREATED:20191010T185533Z
LAST-MODIFIED:20191010T185533Z
UID:5649-1575018000-1575050400@www.sindcontsp.org.br
SUMMARY:Mentoring – desenvolva e retenha seus talentos – 101.06872
DESCRIPTION:
URL:https://www.sindcontsp.org.br/evento/mentoring-desenvolva-e-retenha-seus-talentos-101-06872/
LOCATION:São Paulo
CATEGORIES:Presenciais
END:VEVENT
BEGIN:VEVENT
DTSTART;TZID=America/Sao_Paulo:20191206T090000
DTEND;TZID=America/Sao_Paulo:20191206T180000
DTSTAMP:20260421T011722
CREATED:20191009T204007Z
LAST-MODIFIED:20191111T133239Z
UID:5629-1575622800-1575655200@www.sindcontsp.org.br
SUMMARY:Simples Nacional e alterações - 101.06863
DESCRIPTION:
URL:https://www.sindcontsp.org.br/evento/simples-nacional-e-alteracoes-101-06863/
LOCATION:São Paulo
END:VEVENT
BEGIN:VEVENT
DTSTART;TZID=America/Sao_Paulo:20191212T090000
DTEND;TZID=America/Sao_Paulo:20191212T180000
DTSTAMP:20260421T011722
CREATED:20191122T134048Z
LAST-MODIFIED:20191122T134048Z
UID:6183-1576141200-1576173600@www.sindcontsp.org.br
SUMMARY:Excel com Dashboards (Painel de Instrumentos) – 101.06889
DESCRIPTION:Objetivo: Auxiliar os participantes na criação\, organização e apresentação dos elementos gráficos de maneira coesa e estruturada.
URL:https://www.sindcontsp.org.br/evento/excel-com-dashboards-painel-de-instrumentos-101-06889/
LOCATION:Sindcont-SP\, Praça Ramos de Azevedo\, 202\, São Paulo\, São Paulo\, 01037-010\, Brasil
END:VEVENT
BEGIN:VEVENT
DTSTART;TZID=America/Sao_Paulo:20200203T190000
DTEND;TZID=America/Sao_Paulo:20200203T210000
DTSTAMP:20260421T011722
CREATED:20200124T202619Z
LAST-MODIFIED:20200124T202931Z
UID:5511-1580756400-1580763600@www.sindcontsp.org.br
SUMMARY:03.02 - Grupo de Estudos do Terceiro Setor e Contabilidade Pública
DESCRIPTION:Este grupo é destinado a proporcionar uma discussão sobre os principais assuntos do Terceiro Setor e Contabilidade Pública. \nEste evento é gratuito para associados e para quem não é associado\, pode participar três vezes para conhecer conhecer este grupo no Sindcont-SP
URL:https://www.sindcontsp.org.br/evento/03-02-grupo-de-estudos-do-terceiro-setor-e-contabilidade-publica/
LOCATION:Sindcont-SP\, Praça Ramos de Azevedo\, 202\, São Paulo\, São Paulo\, 01037-010\, Brasil
END:VEVENT
BEGIN:VEVENT
DTSTART;TZID=America/Sao_Paulo:20240910T080000
DTEND;TZID=America/Sao_Paulo:20240910T170000
DTSTAMP:20260421T011722
CREATED:20240910T190647Z
LAST-MODIFIED:20240910T190647Z
UID:27326-1725955200-1725987600@www.sindcontsp.org.br
SUMMARY:13º SPC começa dia 12\, com Miguel Silva falando sobre Reforma Tributária
DESCRIPTION:13º SPC começa dia 12\, com Miguel Silva falando sobre Reforma Tributária \n  \nA 13ª Semana Paulista da Contabilidade começa nesta quinta-feira\, dia 12\, às 19h00\, já em grande estilo\, com a Palestra Magna “A Reforma Tributária e os seus grandes Impactos nas Empresas”\, ministrada pelo tributarista professor Miguel Silva\, um dos articuladores do texto da Reforma que tramita no Congresso Nacional.  O evento terá transmissão no canal do Sindcont-SP no YouTube a partir das   e você ainda pode fazer a sua inscrição no link: 13ª Semana Paulista da Contabilidade. \nTendo como tema central a “Nova Era Tributária e seus Impactos na Contabilidade”\, o Sindicato dos Contabilistas de São Paulo-Sindcont-SP selecionou para esta 13ª edição da SPC\,  um elenco dos mais  renomados especialistas\, como: \nAlém do professor Miguel Silva\, que fará a abertura do evento; o  economista-chefe da Associação Comercial de São Paulo\, Marcel Solimeo; o vice-presidente de Controle Interno do CRC-RJ Paulo Henrique Pêgas; a professora e coordenadora no curso MBA de Gestão Tributária da Trevisan Escola de Negócios Elizabeth Martos; a especialista em impostos indiretos com vasta experiência em multinacionais Epifânia Gomes da Silva; e o professor de Direito Aduaneiro e Tributário do IBET\, IBDT\, Luiz Roberto Domingo; o empresário contábil Jorge Luiz Gonçalves Rodrigues Segeti;  o vice-presidente Administrativo do Sescon-SP\, Benedicto David Filho; a consultora tributária Jô Nascimento; e a professora universitária Ana Lúcia Corsino Picão. \nA 13ª SPC proporcionará um espaço para discussão e atualização sobre as novas legislações e suas implicações práticas no dia a dia dos profissionais da Contabilidade. Os participantes terão a oportunidade de compartilhar experiências e estratégias para adaptação às novas normativas tributárias\, além de networking com outros profissionais e representantes do setor. \nProgramação \nA Semana Paulista da Contabilidade terá\, na sua abertura\, em 12 de setembro\, a palestra magna “A Reforma Tributária e os Seus Grandes Impactos nas Empresas”. No dia seguinte (sexta-feira)\, os participantes terão a oportunidade de assistir à atividade “Processo de Modernização do Sistema Tributário – A Reforma Tributária e os seus grandes Impactos nas Empresas”. Paralelamente e “Pontos Preocupantes da Reforma Tributária”. \nNo dia 14 de setembro\, sábado\, serão três palestras. A primeira abordará o “IBS e a CBS”. Em segundo lugar\, ” O Imposto Seletivo”; e encerrando o dia será promovida a atividade “O IVA na Europa – questões práticas e similitudes com IVA Brasileiro”. \nDepois de uma pausa no domingo\, na segunda-feira (16/9)\, a SPC volta com a palestra “Reforma Tributária: uma Visão Otimista para o Futuro”. No dia 17\, o tema apresentado será “Reforma Tributária e o Impacto no Setor de Serviços”. \nO evento será encerrado com a comemoração do aniversário de 75 anos do Centro de Estudos Fisco-Contábeis do Sindcont-SP\, um marco significativo na história da Contabilidade. Afinal\, ao longo dessas sete décadas e meia\, o CEDFC se destacou como um ponto de referência para profissionais da área\, promovendo a atualização contínua e a capacitação de contadores\, advogados e especialistas em tributos. \nO significado do CEDFC \nDurante sua trajetória\, o Centro de Estudos desenvolveu uma série de iniciativas e eventos que contribuíram para o aprimoramento das práticas contábeis e fiscais. Cursos\, palestras e seminários têm sido fundamentais para a disseminação de conhecimento e a troca de experiências entre os profissionais do setor. Essa abordagem colaborativa ajudou a moldar uma nova geração de especialistas\, capacitados a lidar com os desafios contemporâneos do fisco e da Contabilidade \nNa visão de Claudinei Tonon\, anfitrião do evento e presidente da Casa do Saber Contábil: “A SPC visa instruir e também fomentar um diálogo construtivo sobre os desafios atuais enfrentados pela classe contábil\, enfatizando a importância dos profissionais da Contabilidade  se adaptarem rapidamente às mudanças tributárias que afetam o setor. A troca de informações e boas práticas entre os profissionais será um dos principais legados do evento”.\nA Semana Paulista da Contabilidade conta com patrocínio ouro da BDO; prata do Instituto Paulista de  Contabilidade-IPC\, e da Trevisan Escola de Negócios; e bronze\, da Conferi;  e recebe o apoio institucional do CRCSP\, Ibracon-5ª Regional\, Academia Paulista de Contabilidade-APC\, Anefac\, Sescon-SP/Aescon-SP\, Apejesp e Federação dos Contabilistas do Estado de São Paulo-Fecontesp.
URL:https://www.sindcontsp.org.br/evento/13o-spc-comeca-dia-12-com-miguel-silva-falando-sobre-reforma-tributaria/
LOCATION:São Paulo
ATTACH;FMTTYPE=image/jpeg:https://www.sindcontsp.org.br/wp-content/uploads/2019/06/perfil_miguel.jpg
END:VEVENT
BEGIN:VEVENT
DTSTART;TZID=America/Sao_Paulo:20250918T190000
DTEND;TZID=America/Sao_Paulo:20250918T210000
DTSTAMP:20260421T011722
CREATED:20250814T150016Z
LAST-MODIFIED:20250814T150016Z
UID:29895-1758222000-1758229200@www.sindcontsp.org.br
SUMMARY:14º Semana Paulista da Contabilidade
DESCRIPTION:
URL:https://www.sindcontsp.org.br/evento/14o-semana-paulista-da-contabilidade/
LOCATION:Sindcont-SP\, Praça Ramos de Azevedo\, 202\, São Paulo\, São Paulo\, 01037-010\, Brasil
CATEGORIES:Presenciais
END:VEVENT
END:VCALENDAR