BEGIN:VCALENDAR
VERSION:2.0
PRODID:-//SINDCONT-SP - ECPv6.15.20//NONSGML v1.0//EN
CALSCALE:GREGORIAN
METHOD:PUBLISH
X-WR-CALNAME:SINDCONT-SP
X-ORIGINAL-URL:https://www.sindcontsp.org.br
X-WR-CALDESC:Eventos para SINDCONT-SP
REFRESH-INTERVAL;VALUE=DURATION:PT1H
X-Robots-Tag:noindex
X-PUBLISHED-TTL:PT1H
BEGIN:VTIMEZONE
TZID:America/Sao_Paulo
BEGIN:STANDARD
TZOFFSETFROM:-0200
TZOFFSETTO:-0300
TZNAME:-03
DTSTART:20180218T020000
END:STANDARD
BEGIN:DAYLIGHT
TZOFFSETFROM:-0300
TZOFFSETTO:-0200
TZNAME:-02
DTSTART:20181104T030000
END:DAYLIGHT
BEGIN:STANDARD
TZOFFSETFROM:-0200
TZOFFSETTO:-0300
TZNAME:-03
DTSTART:20190217T020000
END:STANDARD
END:VTIMEZONE
BEGIN:VEVENT
DTSTART;TZID=America/Sao_Paulo:20190815T190000
DTEND;TZID=America/Sao_Paulo:20190815T210000
DTSTAMP:20260421T010959
CREATED:20190813T200028Z
LAST-MODIFIED:20190813T200028Z
UID:4376-1565895600-1565902800@www.sindcontsp.org.br
SUMMARY:Equipe Grupo de IFRS
DESCRIPTION:Reunir os associados para discutir sobre o IFRS -International Financial Reporting Standards (Normas e Padrões Internacionais de Contabilidade)
URL:https://www.sindcontsp.org.br/evento/equipe-grupo-de-ifrs/
LOCATION:Sindcont-SP\, Praça Ramos de Azevedo\, 202\, São Paulo\, São Paulo\, 01037-010\, Brasil
ORGANIZER;CN="Equipe Grupo de IFRS":MAILTO:cursos3@sindcontsp.org.br
END:VEVENT
BEGIN:VEVENT
DTSTART;TZID=America/Sao_Paulo:20190816T090000
DTEND;TZID=America/Sao_Paulo:20190816T180000
DTSTAMP:20260421T010959
CREATED:20190813T200657Z
LAST-MODIFIED:20190813T201618Z
UID:4379-1565946000-1565978400@www.sindcontsp.org.br
SUMMARY:Oficina de Alteração de Atos Societários - 101.06758
DESCRIPTION:Tipos Jurídicos:\nEmpresa Individual de Responsabilidade Limitada – EIRELI;\nEmpresário  Individual;\nSociedade Limitada;\nMicroempreendedor Individual (MEI). \nAnálise das exigências para formalização de atos societários e empresariais \, bem como levantamento de pendências juntos aos órgãos públicos\,  de empresa cassada junto a Sefaz   ou  inapta no Cadastro Nacional da Pessoa Jurídica ( Receita Federal do Brasil )  para fins de regularizações.   \nDestaque para os procedimentos junto aos órgãos públicos\, em especial:\nProcedimentos perante Registro Público de Pessoas Jurídicas e/ ou Juntas Comerciais;\nProcedimentos junto a Receita Federal do Brasil – CNPJ;\nProcedimentos junto a SEFAZ;\nProcedimentos junto a Prefeitura de São Paulo – CCM;\nProcedimentos junto a Previdência Social;\nProcedimentos Junto a Caixa Econômica Federal – FGTS;\nRenovação de Certificado Digital;\nEnquadramento de Sindicado Patronal;\nAnálises dos Regimes Tributários ( Simples Nacional \, Lucro Presumido e Lucro Real);\nLicenças Obrigatórias.
URL:https://www.sindcontsp.org.br/evento/oficina-de-alteracao-de-atos-societarios-101-06758/
LOCATION:Sindcont-SP\, Praça Ramos de Azevedo\, 202\, São Paulo\, São Paulo\, 01037-010\, Brasil
CATEGORIES:Presenciais
END:VEVENT
BEGIN:VEVENT
DTSTART;TZID=America/Sao_Paulo:20190820T190000
DTEND;TZID=America/Sao_Paulo:20190820T210000
DTSTAMP:20260421T010959
CREATED:20190813T193439Z
LAST-MODIFIED:20190816T181645Z
UID:4370-1566327600-1566334800@www.sindcontsp.org.br
SUMMARY:Grupo de Tributos e Obrigações
DESCRIPTION:Discutir assuntos propostos pelos associados.
URL:https://www.sindcontsp.org.br/evento/grupo-de-tributos-e-obrigacoes/
LOCATION:Sindcont-SP\, Praça Ramos de Azevedo\, 202\, São Paulo\, São Paulo\, 01037-010\, Brasil
CATEGORIES:Presenciais
ORGANIZER;CN="Equipe Grupo de Tributos e Obriga%C3%A7%C3%B5es":MAILTO:cursos2@sindcontsp.org.br
END:VEVENT
BEGIN:VEVENT
DTSTART;TZID=America/Sao_Paulo:20190822T190000
DTEND;TZID=America/Sao_Paulo:20190822T210000
DTSTAMP:20260421T010959
CREATED:20190816T173404Z
LAST-MODIFIED:20190816T173548Z
UID:4436-1566500400-1566507600@www.sindcontsp.org.br
SUMMARY:Palestra do Projeto Saber Contábil: Instrumentos financeiro e Oportunidades de Negócios
DESCRIPTION:IFRS 9 / CPC 48 –  Instrumentos financeiros.\nIFRS 16 / CPC 06 – Contratos de leasing (Cálculo de impairment).\nIFRS 15 / CPC 47 – Reconhecimento de receita.(Cálculo de impairment).\nIAS 1 / CPC 26 – Apresentação das Demonstrações Contábeis.\nDicas de empreendedorismo na área contábil / Financeira.\nOutras normas relevantes.
URL:https://www.sindcontsp.org.br/evento/palestra-do-projeto-saber-contabil-instrumentos-financeiro-e-oportunidades-de-negocios/
LOCATION:Sindcont-SP\, Praça Ramos de Azevedo\, 202\, São Paulo\, São Paulo\, 01037-010\, Brasil
CATEGORIES:Presenciais
END:VEVENT
BEGIN:VEVENT
DTSTART;TZID=America/Sao_Paulo:20190823T000000
DTEND;TZID=America/Sao_Paulo:20190823T000000
DTSTAMP:20260421T010959
CREATED:20190823T034750Z
LAST-MODIFIED:20190823T034750Z
UID:4554-1566518400-1566518400@www.sindcontsp.org.br
SUMMARY:Provisões para Peritos\, Auditores e Contadores - 101.06726 (EAD - curso à distância)
DESCRIPTION:O curso de Provisões para Peritos\, Auditores e Contadores\, tem por objetivo explicar a importância das provisões\, assim como suas mensurações e divulgações. Provisões possuem um papel muito importante na gestão das empresas\, com isso\, este treinamento busca passar conceitos técnicos e práticos através de exercícios e exemplos. \n* A pontuação de 10  pontos no Programa de Educação Profissional Continuada (PEPC) é para as seguintes categorias:  AUD\, ProGP\, Perito e ProRT\, de acordo com a norma NBC PG 12.                 
URL:https://www.sindcontsp.org.br/evento/provisoes-para-peritos-auditores-e-contadores-101-06726-ead-curso-a-distancia/
LOCATION:Online
CATEGORIES:Com pontuação,EAD (curso à distância)
END:VEVENT
BEGIN:VEVENT
DTSTART;TZID=America/Sao_Paulo:20190823T000000
DTEND;TZID=America/Sao_Paulo:20190823T000000
DTSTAMP:20260421T010959
CREATED:20190823T034937Z
LAST-MODIFIED:20190823T034937Z
UID:4558-1566518400-1566518400@www.sindcontsp.org.br
SUMMARY:Leasing e Reconhecimento de receitas - 101.06727 (EAD - curso à distância)
DESCRIPTION:O curso de Leasing e Reconhecimento de Receitas\, tem por objetivo explicar através de teoria e exercícios práticos as novas metodologias que foram alteradas na contabilidade. O curso aborda tanto mensuração\, divulgação entre outros tópicos importantes. Estes tópicos são relevantes para todas as empresas. \n* A pontuação de 10  pontos no Programa de Educação Profissional Continuada (PEPC) é para as seguintes categorias: AUD\, CMN\, SUSEP\, ProGP\, Perito e ProRT: 10\, de acordo com a norma NBC PG 12.    
URL:https://www.sindcontsp.org.br/evento/leasing-e-reconhecimento-de-receitas-101-06727-ead-curso-a-distancia/
LOCATION:Online
CATEGORIES:Com pontuação,EAD (curso à distância)
END:VEVENT
BEGIN:VEVENT
DTSTART;TZID=America/Sao_Paulo:20190823T000000
DTEND;TZID=America/Sao_Paulo:20190823T000000
DTSTAMP:20260421T010959
CREATED:20190823T040436Z
LAST-MODIFIED:20190823T040436Z
UID:4578-1566518400-1566518400@www.sindcontsp.org.br
SUMMARY:Formação de Consultor e Especialista em Contabilidade\, Finanças e US Gaap - 101.06697 (EAD - curso à distância)
DESCRIPTION:Excelente treinamento para profissionais que buscam aprimoramento na parte Contábil\, Financeira e US Gaap. Durante esse treinamento você terá 12 meses de acesso na plataforma com 6 treinamentos. Quando você se tornar um profissional Especialista em alguma área você fará parte de um seleto grupo de profissionais especialista em contabilidade e finanças no Brasil. O treinamento possui mais de 1.200 exercícios que vão fazer um link entre a teoria e a prática. O programa consiste em 6 módulos que são pontuados separadamente no CRC / CFC\, conforme o participante for terminando. Excelente treinamento para quem busca se destacar no mercado como profissional\, prestador de serviço ou empreendedor.
URL:https://www.sindcontsp.org.br/evento/formacao-de-consultor-e-especialista-em-contabilidade-financas-e-us-gaap-101-06697-ead-curso-a-distancia/
LOCATION:Online
CATEGORIES:EAD (curso à distância)
END:VEVENT
BEGIN:VEVENT
DTSTART;TZID=America/Sao_Paulo:20190823T000000
DTEND;TZID=America/Sao_Paulo:20190823T000000
DTSTAMP:20260421T010959
CREATED:20190823T040621Z
LAST-MODIFIED:20190823T040621Z
UID:4580-1566518400-1566518400@www.sindcontsp.org.br
SUMMARY:Especialização em Contabilidade - 101.06693 (EAD - curso à distância)
DESCRIPTION:O curso Especialização em Contabilidade\, contempla todas as normas contábeis adotadas em empresas de grande porte; CPC\, NBC e IFRS. O curso contém 650 exercícios práticos que proporcionam uma sinergia muito grande entre teoria e prática. Ao final desse curso o participante terá uma visão diferencia sobre a contabilidade. Excelente curso para atualização técnica e para aprimorar seus conhecimentos.
URL:https://www.sindcontsp.org.br/evento/especializacao-em-contabilidade-101-06693-ead-curso-a-distancia/
LOCATION:Online
CATEGORIES:EAD (curso à distância)
END:VEVENT
BEGIN:VEVENT
DTSTART;TZID=America/Sao_Paulo:20190823T000000
DTEND;TZID=America/Sao_Paulo:20190823T000000
DTSTAMP:20260421T010959
CREATED:20190823T040754Z
LAST-MODIFIED:20190823T040754Z
UID:4582-1566518400-1566518400@www.sindcontsp.org.br
SUMMARY:Business English - 101.06698 (EAD - curso à distância)
DESCRIPTION:O curso de Business English com duração de 10 horas\, ter por objetivo aumentar o seu vocabulário de termos técnicos nas áreas Contábil e Financeira. É um excelente curso para quem busca se aprimorar na língua inglesa com terminologia técnica contábil e financeira.
URL:https://www.sindcontsp.org.br/evento/business-english-101-06698-ead-curso-a-distancia/
LOCATION:Online
CATEGORIES:EAD (curso à distância)
END:VEVENT
BEGIN:VEVENT
DTSTART;TZID=America/Sao_Paulo:20190823T000000
DTEND;TZID=America/Sao_Paulo:20190823T000000
DTSTAMP:20260421T010959
CREATED:20190823T040919Z
LAST-MODIFIED:20190823T040919Z
UID:4584-1566518400-1566518400@www.sindcontsp.org.br
SUMMARY:Normas Selecionadas - 101.06593 (EAD - curso à distância)
DESCRIPTION:Objetivo do curso é passar conhecimento para os profissionais que necessitam de conhecimento em contabilidade. O curso possui um conjunto de normas selecionadas muito utilizadas na contabilidade. Este curso você já terá a nova norma de leasing IFRS 16 / NBC 6 (R3) na versão atualizada e a recém atualizada reconhecimento de receita IFRS 15 / NBC 47. Aprender várias dicas e sacadas para melhorar a gestão financeira e empresarial.
URL:https://www.sindcontsp.org.br/evento/normas-selecionadas-101-06593-ead-curso-a-distancia/
LOCATION:Online
CATEGORIES:EAD (curso à distância)
END:VEVENT
BEGIN:VEVENT
DTSTART;TZID=America/Sao_Paulo:20190823T000000
DTEND;TZID=America/Sao_Paulo:20190823T000000
DTSTAMP:20260421T010959
CREATED:20190823T041125Z
LAST-MODIFIED:20190823T041125Z
UID:4586-1566518400-1566518400@www.sindcontsp.org.br
SUMMARY:Especialização em Instrumentos Financeiros - 101.06594 (EAD - curso à distância)
DESCRIPTION:Com as recentes alterações em Instrumentos financeiros os profissionais necessitam estar atualizados. Estre treinamentos traz com detalhes as alterações e evoluções ocorrida na área de Instrumentos financeiros. Você terá a parte teoria e muito exercícios para colocar em prática.
URL:https://www.sindcontsp.org.br/evento/especializacao-em-instrumentos-financeiros-101-06594-ead-curso-a-distancia/
LOCATION:Online
CATEGORIES:EAD (curso à distância)
END:VEVENT
BEGIN:VEVENT
DTSTART;TZID=America/Sao_Paulo:20190823T090000
DTEND;TZID=America/Sao_Paulo:20190823T180000
DTSTAMP:20260421T010959
CREATED:20190816T174152Z
LAST-MODIFIED:20190816T174152Z
UID:4439-1566550800-1566583200@www.sindcontsp.org.br
SUMMARY:Oficina de Encerramento de Atos Societários - 101.06787
DESCRIPTION:Tipos Jurídicos:\nEmpresa Individual de Responsabilidade Limitada – EIRELI;\nEmpresário  Individual;\nSociedade Limitada;\nMicroempreendedor Individual (MEI).\nAnálises  das informações dos Atos societários e  aspectos gerais da situação da empresa e sócios ou titular  para formalização de atos de encerramento de empresas\, bem como levantamento de pendências juntos aos órgãos públicos\, liquidação de ativo e passivo e elaboração de atos societários e distrato social  para fins de extinção.\nDestaque para os procedimentos junto aos órgãos públicos\, em especial:\nProcedimentos perante Registro Público de Pessoas Jurídicas e/ ou Juntas Comerciais;\nProcedimentos junto a Receita Federal do Brasil – CNPJ;\nProcedimentos junto a SEFAZ;\nProcedimentos junto a Prefeitura de São Paulo – CCM;\nProcedimentos junto a Previdência Social;\nProcedimentos Junto a Caixa Econômica Federal – FGTS;\nAta de prestação de contas junto aos empresários ( Responsabilidade do sócios  ou Titular ).
URL:https://www.sindcontsp.org.br/evento/oficina-de-encerramento-de-atos-societarios-101-06787/
LOCATION:São Paulo
CATEGORIES:Presenciais
END:VEVENT
BEGIN:VEVENT
DTSTART;TZID=America/Sao_Paulo:20190823T190000
DTEND;TZID=America/Sao_Paulo:20190823T220000
DTSTAMP:20260421T010959
CREATED:20190823T033917Z
LAST-MODIFIED:20190823T033917Z
UID:4550-1566586800-1566597600@www.sindcontsp.org.br
SUMMARY:Lista de Interessados - Escritório Contábil Modelo - 41ª turma
DESCRIPTION:Contabilistas\, estudantes ou recém-formados da área contábil e profissionais que atuam ou atuaram na área com objetivo de atualizar seus conhecimentos.
URL:https://www.sindcontsp.org.br/evento/lista-de-interessados-escritorio-contabil-modelo-41a-turma/
LOCATION:Sindcont-SP\, Praça Ramos de Azevedo\, 202\, São Paulo\, São Paulo\, 01037-010\, Brasil
CATEGORIES:Presenciais
END:VEVENT
BEGIN:VEVENT
DTSTART;TZID=America/Sao_Paulo:20190826T090000
DTEND;TZID=America/Sao_Paulo:20190826T180000
DTSTAMP:20260421T010959
CREATED:20190816T174911Z
LAST-MODIFIED:20190816T174911Z
UID:4444-1566810000-1566842400@www.sindcontsp.org.br
SUMMARY:Excelência no atendimento para retenção do cliente e aumento do lucro de sua empresa (com conceitos do encantamento padrão Disney) - 101.06817
DESCRIPTION:Apresentar conceitos\, técnicas e ferramentas de aplicação prática no relacionamento com os clientes para melhorar o atendimento\, satisfazer o cliente e aumentar seu LUCRO. Discutir e analisar as práticas e atitudes comportamentais adotadas no processo de Atendimento ao Cliente.
URL:https://www.sindcontsp.org.br/evento/excelencia-no-atendimento-para-retencao-do-cliente-e-aumento-do-lucro-de-sua-empresa-com-conceitos-do-encantamento-padrao-disney-101-06817/
LOCATION:Sindcont-SP\, Praça Ramos de Azevedo\, 202\, São Paulo\, São Paulo\, 01037-010\, Brasil
CATEGORIES:Presenciais
END:VEVENT
BEGIN:VEVENT
DTSTART;TZID=America/Sao_Paulo:20190827T190000
DTEND;TZID=America/Sao_Paulo:20190827T210000
DTSTAMP:20260421T010959
CREATED:20190816T175448Z
LAST-MODIFIED:20190816T175448Z
UID:4447-1566932400-1566939600@www.sindcontsp.org.br
SUMMARY:Palestra do Projeto Saber Contábil: Empreendendo na carreira profissional em tempos de mudanças na área das relações trabalhistas
DESCRIPTION:Como empreender na carreira profissional na nova era das relações trabalhistas. \nDesafios e oportunidades para empreender como empresário ou mesmo como empregado. \nComo identificar oportunidades. \nComo aprimorar a contabilidade trabalhista?
URL:https://www.sindcontsp.org.br/evento/palestra-do-projeto-saber-contabil-empreendendo-na-carreira-profissional-em-tempos-de-mudancas-na-area-das-relacoes-trabalhistas/
LOCATION:Sindcont-SP\, Praça Ramos de Azevedo\, 202\, São Paulo\, São Paulo\, 01037-010\, Brasil
CATEGORIES:Presenciais
END:VEVENT
BEGIN:VEVENT
DTSTART;TZID=America/Sao_Paulo:20190829T090000
DTEND;TZID=America/Sao_Paulo:20190829T180000
DTSTAMP:20260421T010959
CREATED:20190816T180851Z
LAST-MODIFIED:20190816T180851Z
UID:4453-1567069200-1567101600@www.sindcontsp.org.br
SUMMARY:Trabalhando com Funções Lógicas no Excel - 101.06801
DESCRIPTION:Aprendendo A Trabalhar Com Funções Condicionais\n 	Entendendo A Função Se\n 	Entendendo A Função E\n 	Entendendo A Função Ou\n 	Trabalhando Com A Formatação Condicional\n 	Utilizando A Função Se Encadeada\n 	Construindo A Função Se Com Mais De 7 Condições\n 	Usando A Função Se Em Conjunto Com Outras Fórmulas\n 	Função Se E Função Ou Encadeada\n 	Função Se E Função E Encadeada.
URL:https://www.sindcontsp.org.br/evento/trabalhando-com-funcoes-logicas-no-excel-101-06801/
LOCATION:Sindcont-SP\, Praça Ramos de Azevedo\, 202\, São Paulo\, São Paulo\, 01037-010\, Brasil
CATEGORIES:Presenciais
END:VEVENT
BEGIN:VEVENT
DTSTART;TZID=America/Sao_Paulo:20190829T190000
DTEND;TZID=America/Sao_Paulo:20190829T210000
DTSTAMP:20260421T010959
CREATED:20190816T175803Z
LAST-MODIFIED:20190816T180405Z
UID:4450-1567105200-1567112400@www.sindcontsp.org.br
SUMMARY:Palestra do Projeto Saber Contábil: Evolução e perspectivas da regulação contábil internacional para pequenas e médias empresas
DESCRIPTION:Evolução das IFRS for SME;\nDiscussões atuais no âmbito do IASB;\nExpectativas de alterações das normas.
URL:https://www.sindcontsp.org.br/evento/palestra-do-projeto-saber-contabil-evolucao-e-perspectivas-da-regulacao-contabil-internacional-para-pequenas-e-medias-empresas/
LOCATION:Sindcont-SP\, Praça Ramos de Azevedo\, 202\, São Paulo\, São Paulo\, 01037-010\, Brasil
CATEGORIES:Presenciais
END:VEVENT
BEGIN:VEVENT
DTSTART;TZID=America/Sao_Paulo:20190830T090000
DTEND;TZID=America/Sao_Paulo:20190830T180000
DTSTAMP:20260421T010959
CREATED:20190816T181102Z
LAST-MODIFIED:20190826T214732Z
UID:4456-1567155600-1567188000@www.sindcontsp.org.br
SUMMARY:Simples Nacional e MEI - Operações com ICMS\, IPI e ISS - 101.06790
DESCRIPTION:Esclarecer de forma prática sobre as operações com ICMS e ISS no tocante ao Simples Nacional ? Regime Especial Unificado de Arrecadação de Tributos e Contribuições devidos pelas Microempresas e Empresas de pequeno porte\, acobertados pelas seguintes normas:Lei Complementar nº 123/2006 e Resolução CGSN nº 140/2018\, esclarecer também sobre nos campos da NF-e e emissão da nota fiscal eletrônica.
URL:https://www.sindcontsp.org.br/evento/simples-nacional-e-mei-operacoes-com-icms-ipi-e-iss-101-06790/
LOCATION:Sindcont-SP\, Praça Ramos de Azevedo\, 202\, São Paulo\, São Paulo\, 01037-010\, Brasil
CATEGORIES:Presenciais
END:VEVENT
BEGIN:VEVENT
DTSTART;TZID=America/Sao_Paulo:20190830T090000
DTEND;TZID=America/Sao_Paulo:20190830T180000
DTSTAMP:20260421T010959
CREATED:20190816T182534Z
LAST-MODIFIED:20190816T182534Z
UID:4459-1567155600-1567188000@www.sindcontsp.org.br
SUMMARY:Oficina de Abertura de Empresa - 101.06789
DESCRIPTION:Tipos Jurídicos:\n    Empresa Individual de Responsabilidade Limitada – EIRELI;\n    Empresário  Individual;\n    Sociedade Limitada;\n    Microempreendedor Individual (MEI).\n     “INSTRUÇÃO NORMATIVA DREI Nº 38 DE 02 DE MARÇO DE 2017”\n    Análises das exigências para formalização de atos societário e contato social  para abertura de empresas\, análise do perfil do empresário direcionando para o tipo jurídico e modelo de negócio mais adequado.\n    Destaque para os procedimentos junto aos órgãos públicos\, em especial:\n    Processos Integrados de Abertura de Empresas:\n    VRE- 2 Via Rápida Empresa – JUCESP;\n    RLE – Sistema de Registro e Licenciamento de Empresas ( Viabilidade Prefeitura São Paulo);\n    Coletor Nacional – Federal do Brasil;\n    Procedimentos perante Registro Público de Pessoas Jurídicas e/ ou Juntas Comerciais;\n    Procedimentos junto a Receita Federal do Brasil – CNPJ;\n    Procedimentos junto a SEFAZ;\n    Procedimentos junto a Prefeitura de São Paulo – CCM;\n    Procedimentos junto a Previdência Social;\n    Procedimentos Junto a Caixa Econômica Federal – FGTS;\n    Enquadramento do Simples Nacional;\n    Enquadramento de Sindicato Patronal ;\n    Certificado digital : E-CPF e E-CNPJ;\n    NF-e Nota fiscal Eletrônica;\n    Requerimento  de senha on-line\n    Licenças.
URL:https://www.sindcontsp.org.br/evento/oficina-de-abertura-de-empresa-101-06789/
LOCATION:Sindcont-SP\, Praça Ramos de Azevedo\, 202\, São Paulo\, São Paulo\, 01037-010\, Brasil
CATEGORIES:Presenciais
END:VEVENT
BEGIN:VEVENT
DTSTART;TZID=America/Sao_Paulo:20190830T090000
DTEND;TZID=America/Sao_Paulo:20190830T190000
DTSTAMP:20260421T010959
CREATED:20190816T183609Z
LAST-MODIFIED:20190816T183609Z
UID:4462-1567155600-1567191600@www.sindcontsp.org.br
SUMMARY:Consultor Contábil e Financeiro - 101.06799
DESCRIPTION:O Treinamento está dividido em duas partes\, sendo a primeira\, uma abordagem técnica contábil e financeira e a segunda\, uma abordagem de estratégias de negócios\, prestação de serviços e estratégia de venda. Durante o treinamento você terá mais de 100 sugestões de prestação de serviços contábeis e financeiros\, além de estratégias para captar clientes\, desenvolver serviços\, precificação dos novos produtos\, especializações técnicas\, áreas que possuem grande demanda de prestação de serviços entre outros pontos importantes.
URL:https://www.sindcontsp.org.br/evento/consultor-contabil-e-financeiro-101-06799/
LOCATION:Sindcont-SP\, Praça Ramos de Azevedo\, 202\, São Paulo\, São Paulo\, 01037-010\, Brasil
CATEGORIES:Presenciais
END:VEVENT
END:VCALENDAR